BEGIN:VCALENDAR
VERSION:2.0
PRODID:icalendar-ruby
CALSCALE:GREGORIAN
BEGIN:VEVENT
DTSTAMP:20260423T112218Z
UID:0f8266b8-b542-4fee-a69a-0b4beade92ef
DTSTART;VALUE=DATE:20210728
DESCRIPTION:Property ID# 513515\, Time: 1:00PM
SUMMARY:Auction for 
END:VEVENT
END:VCALENDAR
